BEGIN:VCALENDAR
VERSION:2.0
PRODID:-//www.occjok.org//NONSGML kigkonsult.se iCalcreator 2.30.10//
CALSCALE:GREGORIAN
METHOD:PUBLISH
UID:b671400e-d1e7-4cdb-9c89-645bc44468aa
X-WR-CALDESC:OCCJ and the Anti-Bullying Collaboration of Tulsa are partneri
 ng for this Back to School Bash featuring live music\, non-profit vendors 
 and free giveaways.
X-WR-RELCALID:1bb480ccaa5767e6d8b503339565a9f7
X-WR-TIMEZONE:America/Chicago
BEGIN:VTIMEZONE
TZID:America/Chicago
BEGIN:STANDARD
TZNAME:CST
DTSTART:20131103T020000
TZOFFSETFROM:-0500
TZOFFSETTO:-0600
RDATE:20141102T020000
RDATE:20151101T020000
END:STANDARD
BEGIN:DAYLIGHT
TZNAME:CDT
DTSTART:20140309T020000
TZOFFSETFROM:-0600
TZOFFSETTO:-0500
RDATE:20150308T020000
END:DAYLIGHT
END:VTIMEZONE
BEGIN:VEVENT
UID:d1452b03-e5fe-4e2b-b38b-f28110623034
DTSTAMP:20260422T095815Z
DESCRIPTION:OCCJ and the Anti-Bullying Collaboration of Tulsa are partnerin
 g for this Back to School Bash featuring live music\, non-profit vendors a
 nd free giveaways.
DTSTART;TZID=America/Chicago:20140824T150000
DTEND;TZID=America/Chicago:20140824T180000
LOCATION:Guthrie Green
SUMMARY:Tulsa Unites Concert - Back to School Bash
END:VEVENT
END:VCALENDAR
