BEGIN:VCALENDAR
VERSION:2.0
PRODID:-//www.occjok.org//NONSGML kigkonsult.se iCalcreator 2.30.10//
CALSCALE:GREGORIAN
METHOD:PUBLISH
UID:79d62029-cec0-4969-a848-9495862be571
X-WR-CALDESC:The 2012 Interfaith Trialogue Series\, “Food for Thought: Thin
 king about Food\, Religion\, and Community\,” will be held on February 5\,
  12 and 19.  The first session will be held at Temple Israel\, the second 
 session at Masjid Al-Salam Mosque and the third at Boston Avenue United Me
 thodist Church.  All sessions will start at 2:00 p.m. and end at 4:00 p.m.
    The programs are free and open to the public.  \n
X-WR-RELCALID:6402104ab36aa67ddb04496bc31a8456
X-WR-TIMEZONE:America/Chicago
BEGIN:VTIMEZONE
TZID:America/Chicago
BEGIN:STANDARD
TZNAME:CST
DTSTART:20111106T020000
TZOFFSETFROM:-0500
TZOFFSETTO:-0600
RDATE:20121104T020000
END:STANDARD
BEGIN:DAYLIGHT
TZNAME:CDT
DTSTART:20110313T020000
TZOFFSETFROM:-0600
TZOFFSETTO:-0500
RDATE:20120311T020000
RDATE:20130310T020000
END:DAYLIGHT
END:VTIMEZONE
BEGIN:VEVENT
UID:0c0f2f38-8218-4604-a37d-b8dcbc9cb3e0
DTSTAMP:20260420T092511Z
DESCRIPTION:The 2012 Interfaith Trialogue Series\, “Food for Thought: Think
 ing about Food\, Religion\, and Community\,” will be held on February 5\, 
 12 and 19.  The first session will be held at Temple Israel\, the second s
 ession at Masjid Al-Salam Mosque and the third at Boston Avenue United Met
 hodist Church.  All sessions will start at 2:00 p.m. and end at 4:00 p.m. 
   The programs are free and open to the public.  \n
DTSTART;TZID=America/Chicago:20120219T140000
DTEND;TZID=America/Chicago:20120219T160000
LOCATION:Boston Avenue United Methodist Church
SUMMARY:Interfaith Trialogue
END:VEVENT
END:VCALENDAR
